BEGIN:VCALENDAR
VERSION:2.0
PRODID:-//eventon.com NONSGML v1.0//EN
CALSCALE:GREGORIAN
METHOD:PUBLISH
BEGIN:VEVENT
UID:69e605bf66925
DTSTAMP:20260420T105351Z
DTSTART:20250926T000000Z
DTEND:20250926T045900Z
LOCATION:UW Cinematheque 4070 Vilas Hall\,  821 University Ave\,  Madison\,  WI 53706
SUMMARY:DREAMS (DRØMMER)
DESCRIPTION:Norway | DCP | 2024 | 110 min. | Norwegian with English subtitl
 es Director: Dag Johan Haugerud Cast: Ella Øverbye\,  Selome Emnetu\,  Ane
  Dahl Torp Hopelessly infatuated with her French teacher\,  Oslo teen Johan
 ne pours her heart onto the page\,  detailing their close—possibly too cl
 ose—relationship. Poring over this compulsively readable\, [..]\nhttps://
 cinema.wisc.edu/events/dreams-drommer/
URL:https://cinema.wisc.edu/events/dreams-drommer/
END:VEVENT
END:VCALENDAR