BEGIN:VCALENDAR
VERSION:2.0
PRODID:-//eventon.com NONSGML v1.0//EN
CALSCALE:GREGORIAN
METHOD:PUBLISH
BEGIN:VEVENT
UID:69ecec3955aca
DTSTAMP:20260425T163049Z
DTSTART:20250719T000000Z
DTEND:20250719T045900Z
LOCATION:UW Cinematheque 4070 Vilas Hall\,  821 University Ave\,  Madison\,  WI 53706
SUMMARY:THE MYSTERY OF CHESS BOXING
DESCRIPTION:Hong Kong\,  Taiwan | 1979 | DCP | 90 min. Director: Joseph Kuo
  Cast: Shi-Chia Lung\,  Kuan-Wu Lung\,  Simon Lee A vicious villain with an
  unstoppable five element technique\,  Ghostface Killer is bumping off all 
 of his old rivals\,  verbally insulting his opponents as he annihilates the
 m. Meanwhile\,  a young[..]\nhttps://cinema.wisc.edu/events/the-mystery-of-
 chess-boxing/
URL:https://cinema.wisc.edu/events/the-mystery-of-chess-boxing/
END:VEVENT
END:VCALENDAR