BEGIN:VCALENDAR
VERSION:2.0
PRODID:-//eventon.com NONSGML v1.0//EN
CALSCALE:GREGORIAN
METHOD:PUBLISH
BEGIN:VEVENT
UID:69e8f49c0699b
DTSTAMP:20260422T161732Z
DTSTART:20250207T220000Z
DTEND:20250208T055900Z
LOCATION:UW Cinematheque 4070 Vilas Hall\,  821 University Ave\,  Madison\,  WI 53706
SUMMARY:THE WAGES OF FEAR
DESCRIPTION:France | 1953 | DCP | 153 min. | French with English subtitles 
 Director: Henri-Georges Clouzot Cast: Yves Montand\,  Charles Vanel\,  Pete
 r Van Eyck Hiding from the world in South America\,  four men with nothing 
 to lose sign on to haul truckloads of explosive nitroglycerine over miles o
 f treacherously bumpy[..]\nhttps://cinema.wisc.edu/events/the-wages-of-fear
 -copy/
URL:https://cinema.wisc.edu/events/the-wages-of-fear-copy/
END:VEVENT
END:VCALENDAR