BEGIN:VCALENDAR
VERSION:2.0
PRODID:-//eventon.com NONSGML v1.0//EN
CALSCALE:GREGORIAN
METHOD:PUBLISH
BEGIN:VEVENT
UID:69e75a983dbc3
DTSTAMP:20260421T110808Z
DTSTART:20250427T190000Z
DTEND:20250428T045900Z
LOCATION:Chazen Museum of Art 750 University Ave\,  Madison\,  WI 53706
SUMMARY:A Cinema 16 Anthology
DESCRIPTION:16mm 35mm | 85 min. Amos Vogel’s influential Cinema 16 film s
 ociety is perhaps best known for introducing important avant-garde filmmake
 rs such as Shirley Clarke\,  Bruce Conner\,  and Hy Hirsh to New York audie
 nces\,  but Vogel also mixed experimental films with documentary\,  comedy\
 ,  animation\,  medical films\,  and almost every other[..]\nhttps://cinema
 .wisc.edu/events/a-cinema-16-anthology/
URL:https://cinema.wisc.edu/events/a-cinema-16-anthology/
END:VEVENT
END:VCALENDAR