BEGIN:VCALENDAR
VERSION:2.0
PRODID:-//eventon.com NONSGML v1.0//EN
CALSCALE:GREGORIAN
METHOD:PUBLISH
BEGIN:VEVENT
UID:69e62cf1d1cb3
DTSTAMP:20260420T134105Z
DTSTART:20250315T000000Z
DTEND:20250315T045900Z
LOCATION:UW Cinematheque 4070 Vilas Hall\,  821 University Ave\,  Madison\,  WI 53706
SUMMARY:THE BATTLE OF ALGIERS
DESCRIPTION:Italy\,  Algeria | 1966 | 35mm | 121 min. | French and Arabic w
 ith English subtitles Director: Gillo Pontecorvo Cast: Brahim Haggiag\,  Je
 an Martin\,  Saadi Yacef A landmark achievement in mixing fiction and docum
 entary styles\,  The Battle of Algiers covers three years (1954-1957) in th
 e Algerian struggle for independence from[..]\nhttps://cinema.wisc.edu/even
 ts/the-battle-of-algiers/
URL:https://cinema.wisc.edu/events/the-battle-of-algiers/
END:VEVENT
END:VCALENDAR