BEGIN:VCALENDAR
VERSION:2.0
PRODID:-//eventon.com NONSGML v1.0//EN
CALSCALE:GREGORIAN
METHOD:PUBLISH
BEGIN:VEVENT
UID:69ea52f7ce47f
DTSTAMP:20260423T171223Z
DTSTART:20250308T010000Z
DTEND:20250308T055900Z
LOCATION:UW Cinematheque 4070 Vilas Hall\,  821 University Ave\,  Madison\,  WI 53706
SUMMARY:SWORD OF GRANADA 3-D (EL CORAZÓN Y LA ESPADA)
DESCRIPTION:Mexico | 1953 | DCP | 87 min. | Spanish with English subtitles 
 Director: Carlos Véjar\,  Edward Dein Cast: Cesar Romero\,  Katy Jurado\, 
  Rebecca Iturbide In this period costume drama full of action\,  intrigue\,
   and romance\,  Don Pedro de Rivera (Romero)\,  the rightful owner of a Sp
 anish castle seeks to[..]\nhttps://cinema.wisc.edu/events/sword-of-granada-
 3-d-el-corazon-y-la-espada/
URL:https://cinema.wisc.edu/events/sword-of-granada-3-d-el-corazon-y-la-espada/
END:VEVENT
END:VCALENDAR