BEGIN:VCALENDAR
VERSION:2.0
PRODID:-//eventon.com NONSGML v1.0//EN
CALSCALE:GREGORIAN
METHOD:PUBLISH
BEGIN:VEVENT
UID:69e8420017966
DTSTAMP:20260422T033528Z
DTSTART:20250215T010000Z
DTEND:20250215T055900Z
LOCATION:UW Cinematheque 4070 Vilas Hall\,  821 University Ave\,  Madison\,  WI 53706
SUMMARY:CLAUDINE
DESCRIPTION:USA | 1974 | DCP | 92 min. Director: John Berry Cast: Diahann C
 arroll\,  James Earl Jones\,  Lawrence Hilton-Jacobs Although she was a las
 t-minute replacement for an ailing iana Sands\,  Diahann Carroll received a
 n Academy Award nomination for her indelible portrayal of the title charact
 er\,  a working class mother of[..]\nhttps://cinema.wisc.edu/events/claudin
 e/
URL:https://cinema.wisc.edu/events/claudine/
END:VEVENT
END:VCALENDAR