BEGIN:VCALENDAR
VERSION:2.0
PRODID:-//eventon.com NONSGML v1.0//EN
CALSCALE:GREGORIAN
METHOD:PUBLISH
BEGIN:VEVENT
UID:69e5ed2dd6584
DTSTAMP:20260420T090901Z
DTSTART:20250215T000000Z
DTEND:20250215T055900Z
LOCATION:UW Cinematheque 4070 Vilas Hall\,  821 University Ave\,  Madison\,  WI 53706
SUMMARY:EAST SIDE/WEST SIDE: WHO DO YOU KILL?
DESCRIPTION:USA | 1963 | DCP | 52 min. Director: Tom Gries: Cast: George C.
  Scott\,  Diana Sands\,  James Earl Jones This heartbreaking episode of the
  underrated\,  short-lived series East Side/West Side features knockout per
 formances from Sands and Jones as a couple struggling to get by working men
 ial jobs when tragedy[..]\nhttps://cinema.wisc.edu/events/east-side-west-si
 de-who-do-you-kill/
URL:https://cinema.wisc.edu/events/east-side-west-side-who-do-you-kill/
END:VEVENT
END:VCALENDAR