BEGIN:VCALENDAR
VERSION:2.0
PRODID:-//eventon.com NONSGML v1.0//EN
CALSCALE:GREGORIAN
METHOD:PUBLISH
BEGIN:VEVENT
UID:69e8f424c1c89
DTSTAMP:20260422T161532Z
DTSTART:20250208T010000Z
DTEND:20250208T055900Z
LOCATION:UW Cinematheque 4070 Vilas Hall\,  821 University Ave\,  Madison\,  WI 53706
SUMMARY:SORCERER
DESCRIPTION:USA | 1977 | DCP | 122 min. Director: William Friedkin Cast: Ro
 y Scheider\,  Francisco Rabal\,  Bruno Cremer Five desperate men from diffe
 rent countries\,  all hiding out in a sweaty South American hellhole\,  agr
 ee to take on an impossible mission: transporting\,  via truck\,  several c
 rates of highly explosive nitroglycerin over[..]\nhttps://cinema.wisc.edu/e
 vents/sorcerer/
URL:https://cinema.wisc.edu/events/sorcerer/
END:VEVENT
END:VCALENDAR