BEGIN:VCALENDAR
VERSION:2.0
PRODID:-//eventon.com NONSGML v1.0//EN
CALSCALE:GREGORIAN
METHOD:PUBLISH
BEGIN:VEVENT
UID:69e6015523b8f
DTSTAMP:20260420T103501Z
DTSTART:20250125T010000Z
DTEND:20250125T055900Z
LOCATION:UW Cinematheque 4070 Vilas Hall\,  821 University Ave\,  Madison\,  WI 53706
SUMMARY:THE FALL
DESCRIPTION:US\,  South Africa\,  India | 2006 | DCP | 119 min. Director: T
 arsem Cast: Lee Pace\,  Catinca Untaru\,  Justine Waddell In a Southern Cal
 ifornia hospital in the 1920s\,  an injured and heartbroken movie stuntman 
 (Pace) entrances a fellow patient &#8211; a seven-year-old immigrant girl (
 Untaru\,  in one of the greatest[..]\nhttps://cinema.wisc.edu/events/the-fa
 ll/
URL:https://cinema.wisc.edu/events/the-fall/
END:VEVENT
END:VCALENDAR