BEGIN:VCALENDAR
VERSION:2.0
PRODID:-//eventon.com NONSGML v1.0//EN
CALSCALE:GREGORIAN
METHOD:PUBLISH
BEGIN:VEVENT
UID:69ea922b92fb1
DTSTAMP:20260423T214203Z
DTSTART:20260502T000000Z
DTEND:20260502T045900Z
LOCATION:UW Cinematheque 4070 Vilas Hall\,  821 University Ave\,  Madison\,  WI 53706
SUMMARY:THE ADVENTURES OF BARON MUNCHAUSEN
DESCRIPTION:USA | 1989 | DCP | 126 min. Director: Terry Gilliam Cast: John 
 Neville\,  Sarah Polley\,  Eric Idle Filming at Italy’s Cinecittà studio
 s and utilizing several members of Federico Fellini’s usual crew\,  Gilli
 am created his most visually sumptuous movie: a classic German children’s
  story retold with Monty Python-esque humor. Neville[..]\nhttps://cinema.wi
 sc.edu/events/the-adventures-of-baron-munchausen/
URL:https://cinema.wisc.edu/events/the-adventures-of-baron-munchausen/
END:VEVENT
END:VCALENDAR