BEGIN:VCALENDAR
VERSION:2.0
PRODID:-//eventon.com NONSGML v1.0//EN
CALSCALE:GREGORIAN
METHOD:PUBLISH
BEGIN:VEVENT
UID:69ea90c82efdd
DTSTAMP:20260423T213608Z
DTSTART:20260426T000000Z
DTEND:20260426T045900Z
LOCATION:UW Cinematheque 4070 Vilas Hall\,  821 University Ave\,  Madison\,  WI 53706
SUMMARY:GREEN SNAKE
DESCRIPTION:Hong Kong | 1993 | 35mm | 99 min. | Mandarin with English subti
 tles Director: Tsui Hark Cast: Joey Wong\,  Maggie Cheung\,  Wenzhuo Zhao A
  visually dazzling allegory of what it means to be human\,  Green Snake rei
 magines the classic Chinese folktale of two snake spirits (Wong and Cheung)
  who[..]\nhttps://cinema.wisc.edu/events/green-snake/
URL:https://cinema.wisc.edu/events/green-snake/
END:VEVENT
END:VCALENDAR