BEGIN:VCALENDAR
VERSION:2.0
PRODID:-//eventon.com NONSGML v1.0//EN
CALSCALE:GREGORIAN
METHOD:PUBLISH
BEGIN:VEVENT
UID:69ea901c15833
DTSTAMP:20260423T213316Z
DTSTART:20260425T000000Z
DTEND:20260425T045900Z
LOCATION:UW Cinematheque 4070 Vilas Hall\,  821 University Ave\,  Madison\,  WI 53706
SUMMARY:YOUNG MR. LINCOLN
DESCRIPTION:USA | 1939 | 35mm | 100 min. Director: John Ford Cast: Henry Fo
 nda\,  Alice Brady\,  Ward Bond The humble\,  sharp-witted Abraham Lincoln 
 begins his law career by defending two brothers in a volatile murder trial\
 ,  revealing the moral clarity and empathy that would define his future pre
 sidency. Ford’s thoughtful\, [..]\nhttps://cinema.wisc.edu/events/young-m
 r-lincoln/
URL:https://cinema.wisc.edu/events/young-mr-lincoln/
END:VEVENT
END:VCALENDAR