BEGIN:VCALENDAR
VERSION:2.0
PRODID:-//eventon.com NONSGML v1.0//EN
CALSCALE:GREGORIAN
METHOD:PUBLISH
BEGIN:VEVENT
UID:69eb7434dba7c
DTSTAMP:20260424T134628Z
DTSTART:20260308T010000Z
DTEND:20260308T055900Z
LOCATION:UW Cinematheque 4070 Vilas Hall\,  821 University Ave\,  Madison\,  WI 53706
SUMMARY:CRONOS
DESCRIPTION:Mexico | 1992 | DCP | 92 min. | Spanish with English subtitles 
 Director: Guillermo del Toro Cast: Federico Luppi\,  Ron Perlman\,  Claudio
  Brook In del Toro’s feature debut\,  made when he was 28\,  antiques dea
 ler Jesús Gris (Luppi) discovers a centuries-old device that grants immort
 ality through the sting of[..]\nhttps://cinema.wisc.edu/events/cronos/
URL:https://cinema.wisc.edu/events/cronos/
END:VEVENT
END:VCALENDAR